BEGIN:VCALENDAR
VERSION:2.0
PRODID:https://www.kufer.de/kuferweb / DE
METHOD:PUBLISH
CALSCALE:GREGORIAN
X-WR-TIMEZONE:Europe/Berlin
BEGIN:VTIMEZONE
TZID:Europe/Berlin
X-LIC-LOCATION:Europe/Berlin
BEGIN:DAYLIGHT
TZOFFSETFROM:+0100
TZOFFSETTO:+0200
TZNAME:CEST
DTSTART:19700329T020000
RRULE:FREQ=YEARLY;INTERVAL=1;BYDAY=-1SU;BYMONTH=3
END:DAYLIGHT
BEGIN:STANDARD
TZOFFSETFROM:+0200
TZOFFSETTO:+0100
TZNAME:CET
DTSTART:19701025T030000
RRULE:FREQ=YEARLY;INTERVAL=1;BYDAY=-1SU;BYMONTH=10
END:STANDARD
END:VTIMEZONE
BEGIN:VEVENT
DTSTAMP:20260421T114219
DTSTART;TZID=Europe/Berlin:20260504T080000
DTEND;TZID=Europe/Berlin:20260504T170000
UID:26S18000-20260504T080000@VHSGÖTZIS
SUMMARY:Bildung für nachhaltige Entwicklung – ein interdisziplinärer und systemischer Zugang zum Thema Klimawandel (26S18000) 
LOCATION:Götzis, Haus Bildung am Garnmarkt, Am Garnmarkt 12, Raum 105, Am Garnmarkt 12, 6840 Götzis
END:VEVENT
BEGIN:VEVENT
DTSTAMP:20260421T114219
DTSTART;TZID=Europe/Berlin:20260505T080000
DTEND;TZID=Europe/Berlin:20260505T170000
UID:26S18000-20260505T080000@VHSGÖTZIS
SUMMARY:Bildung für nachhaltige Entwicklung – ein interdisziplinärer und systemischer Zugang zum Thema Klimawandel (26S18000) 
LOCATION:Götzis, Haus Bildung am Garnmarkt, Am Garnmarkt 12, Raum 105, Am Garnmarkt 12, 6840 Götzis
END:VEVENT
BEGIN:VEVENT
DTSTAMP:20260421T114219
DTSTART;TZID=Europe/Berlin:20260506T080000
DTEND;TZID=Europe/Berlin:20260506T170000
UID:26S18000-20260506T080000@VHSGÖTZIS
SUMMARY:Bildung für nachhaltige Entwicklung – ein interdisziplinärer und systemischer Zugang zum Thema Klimawandel (26S18000) 
LOCATION:Götzis, Haus Bildung am Garnmarkt, Am Garnmarkt 12, Raum 105, Am Garnmarkt 12, 6840 Götzis
END:VEVENT
BEGIN:VEVENT
DTSTAMP:20260421T114219
DTSTART;TZID=Europe/Berlin:20260507T080000
DTEND;TZID=Europe/Berlin:20260507T170000
UID:26S18000-20260507T080000@VHSGÖTZIS
SUMMARY:Bildung für nachhaltige Entwicklung – ein interdisziplinärer und systemischer Zugang zum Thema Klimawandel (26S18000) 
LOCATION:Götzis, Haus Bildung am Garnmarkt, Am Garnmarkt 12, Raum 105, Am Garnmarkt 12, 6840 Götzis
END:VEVENT
BEGIN:VEVENT
DTSTAMP:20260421T114219
DTSTART;TZID=Europe/Berlin:20260508T080000
DTEND;TZID=Europe/Berlin:20260508T170000
UID:26S18000-20260508T080000@VHSGÖTZIS
SUMMARY:Bildung für nachhaltige Entwicklung – ein interdisziplinärer und systemischer Zugang zum Thema Klimawandel (26S18000) 
LOCATION:Götzis, Haus Bildung am Garnmarkt, Am Garnmarkt 12, Raum 105, Am Garnmarkt 12, 6840 Götzis
END:VEVENT
END:VCALENDAR