BEGIN:VCALENDAR
VERSION:2.0
PRODID:https://www.kufer.de/kuferweb / DE
METHOD:PUBLISH
CALSCALE:GREGORIAN
X-WR-TIMEZONE:Europe/Berlin
BEGIN:VTIMEZONE
TZID:Europe/Berlin
X-LIC-LOCATION:Europe/Berlin
BEGIN:DAYLIGHT
TZOFFSETFROM:+0100
TZOFFSETTO:+0200
TZNAME:CEST
DTSTART:19700329T020000
RRULE:FREQ=YEARLY;INTERVAL=1;BYDAY=-1SU;BYMONTH=3
END:DAYLIGHT
BEGIN:STANDARD
TZOFFSETFROM:+0200
TZOFFSETTO:+0100
TZNAME:CET
DTSTART:19701025T030000
RRULE:FREQ=YEARLY;INTERVAL=1;BYDAY=-1SU;BYMONTH=10
END:STANDARD
END:VTIMEZONE
BEGIN:VEVENT
DTSTAMP:20260419T151649
DTSTART;TZID=Europe/Berlin:20260227T140000
DTEND;TZID=Europe/Berlin:20260227T190000
UID:26S30510-20260227T140000@VHSGÖTZIS
SUMMARY:Lehrgang Schulhund: Tierschutzbotschafter in der Schule  (26S30510) 
LOCATION:Götzis, Haus Bildung am Garnmarkt, Am Garnmarkt 12, Raum 105, Am Garnmarkt 12, 6840 Götzis
END:VEVENT
BEGIN:VEVENT
DTSTAMP:20260419T151649
DTSTART;TZID=Europe/Berlin:20260228T090000
DTEND;TZID=Europe/Berlin:20260228T173000
UID:26S30510-20260228T090000@VHSGÖTZIS
SUMMARY:Lehrgang Schulhund: Tierschutzbotschafter in der Schule  (26S30510) 
LOCATION:Götzis, Haus Bildung am Garnmarkt, Am Garnmarkt 12, Raum 105, Am Garnmarkt 12, 6840 Götzis
END:VEVENT
BEGIN:VEVENT
DTSTAMP:20260419T151649
DTSTART;TZID=Europe/Berlin:20260410T140000
DTEND;TZID=Europe/Berlin:20260410T190000
UID:26S30510-20260410T140000@VHSGÖTZIS
SUMMARY:Lehrgang Schulhund: Tierschutzbotschafter in der Schule  (26S30510) 
LOCATION:Götzis, Haus Bildung am Garnmarkt, Am Garnmarkt 12, Raum 105, Am Garnmarkt 12, 6840 Götzis
END:VEVENT
BEGIN:VEVENT
DTSTAMP:20260419T151649
DTSTART;TZID=Europe/Berlin:20260411T090000
DTEND;TZID=Europe/Berlin:20260411T173000
UID:26S30510-20260411T090000@VHSGÖTZIS
SUMMARY:Lehrgang Schulhund: Tierschutzbotschafter in der Schule  (26S30510) 
LOCATION:Götzis, Haus Bildung am Garnmarkt, Am Garnmarkt 12, Raum 105, Am Garnmarkt 12, 6840 Götzis
END:VEVENT
BEGIN:VEVENT
DTSTAMP:20260419T151649
DTSTART;TZID=Europe/Berlin:20260508T140000
DTEND;TZID=Europe/Berlin:20260508T190000
UID:26S30510-20260508T140000@VHSGÖTZIS
SUMMARY:Lehrgang Schulhund: Tierschutzbotschafter in der Schule  (26S30510) 
LOCATION:Götzis, Haus Bildung am Garnmarkt, Am Garnmarkt 12, Raum 105, Am Garnmarkt 12, 6840 Götzis
END:VEVENT
BEGIN:VEVENT
DTSTAMP:20260419T151649
DTSTART;TZID=Europe/Berlin:20260509T090000
DTEND;TZID=Europe/Berlin:20260509T173000
UID:26S30510-20260509T090000@VHSGÖTZIS
SUMMARY:Lehrgang Schulhund: Tierschutzbotschafter in der Schule  (26S30510) 
LOCATION:Götzis, Haus Bildung am Garnmarkt, Am Garnmarkt 12, Raum 105, Am Garnmarkt 12, 6840 Götzis
END:VEVENT
BEGIN:VEVENT
DTSTAMP:20260419T151649
DTSTART;TZID=Europe/Berlin:20261016T140000
DTEND;TZID=Europe/Berlin:20261016T190000
UID:26S30510-20261016T140000@VHSGÖTZIS
SUMMARY:Lehrgang Schulhund: Tierschutzbotschafter in der Schule  (26S30510) 
LOCATION:Götzis, Haus Bildung am Garnmarkt, Am Garnmarkt 12, Raum 105, Am Garnmarkt 12, 6840 Götzis
END:VEVENT
BEGIN:VEVENT
DTSTAMP:20260419T151649
DTSTART;TZID=Europe/Berlin:20261017T090000
DTEND;TZID=Europe/Berlin:20261017T173000
UID:26S30510-20261017T090000@VHSGÖTZIS
SUMMARY:Lehrgang Schulhund: Tierschutzbotschafter in der Schule  (26S30510) 
LOCATION:Götzis, Haus Bildung am Garnmarkt, Am Garnmarkt 12, Raum 105, Am Garnmarkt 12, 6840 Götzis
END:VEVENT
BEGIN:VEVENT
DTSTAMP:20260419T151649
DTSTART;TZID=Europe/Berlin:20261127T140000
DTEND;TZID=Europe/Berlin:20261127T190000
UID:26S30510-20261127T140000@VHSGÖTZIS
SUMMARY:Lehrgang Schulhund: Tierschutzbotschafter in der Schule  (26S30510) 
LOCATION:Götzis, Haus Bildung am Garnmarkt, Am Garnmarkt 12, Raum 105, Am Garnmarkt 12, 6840 Götzis
END:VEVENT
BEGIN:VEVENT
DTSTAMP:20260419T151649
DTSTART;TZID=Europe/Berlin:20261128T090000
DTEND;TZID=Europe/Berlin:20261128T173000
UID:26S30510-20261128T090000@VHSGÖTZIS
SUMMARY:Lehrgang Schulhund: Tierschutzbotschafter in der Schule  (26S30510) 
LOCATION:Götzis, Haus Bildung am Garnmarkt, Am Garnmarkt 12, Raum 105, Am Garnmarkt 12, 6840 Götzis
END:VEVENT
END:VCALENDAR