BEGIN:VCALENDAR
VERSION:2.0
PRODID:https://www.kufer.de/kuferweb / DE
METHOD:PUBLISH
CALSCALE:GREGORIAN
X-WR-TIMEZONE:Europe/Berlin
BEGIN:VTIMEZONE
TZID:Europe/Berlin
X-LIC-LOCATION:Europe/Berlin
BEGIN:DAYLIGHT
TZOFFSETFROM:+0100
TZOFFSETTO:+0200
TZNAME:CEST
DTSTART:19700329T020000
RRULE:FREQ=YEARLY;INTERVAL=1;BYDAY=-1SU;BYMONTH=3
END:DAYLIGHT
BEGIN:STANDARD
TZOFFSETFROM:+0200
TZOFFSETTO:+0100
TZNAME:CET
DTSTART:19701025T030000
RRULE:FREQ=YEARLY;INTERVAL=1;BYDAY=-1SU;BYMONTH=10
END:STANDARD
END:VTIMEZONE
BEGIN:VEVENT
DTSTAMP:20260419T150925
DTSTART;TZID=Europe/Berlin:20260424T183000
DTEND;TZID=Europe/Berlin:20260424T200000
UID:26S61020-20260424T183000@VHSGÖTZIS
SUMMARY:Multimediale Kunsttherapie  (26S61020) 
LOCATION:Feldkirch, Mittelschule Levis, Klasse, Mutterstraße 6, Mutterstraße 6, 6800 Feldkirch
END:VEVENT
BEGIN:VEVENT
DTSTAMP:20260419T150925
DTSTART;TZID=Europe/Berlin:20260508T183000
DTEND;TZID=Europe/Berlin:20260508T200000
UID:26S61020-20260508T183000@VHSGÖTZIS
SUMMARY:Multimediale Kunsttherapie  (26S61020) 
LOCATION:Feldkirch, Mittelschule Levis, Klasse, Mutterstraße 6, Mutterstraße 6, 6800 Feldkirch
END:VEVENT
BEGIN:VEVENT
DTSTAMP:20260419T150925
DTSTART;TZID=Europe/Berlin:20260515T183000
DTEND;TZID=Europe/Berlin:20260515T200000
UID:26S61020-20260515T183000@VHSGÖTZIS
SUMMARY:Multimediale Kunsttherapie  (26S61020) 
LOCATION:Feldkirch, Mittelschule Levis, Klasse, Mutterstraße 6, Mutterstraße 6, 6800 Feldkirch
END:VEVENT
BEGIN:VEVENT
DTSTAMP:20260419T150925
DTSTART;TZID=Europe/Berlin:20260522T183000
DTEND;TZID=Europe/Berlin:20260522T200000
UID:26S61020-20260522T183000@VHSGÖTZIS
SUMMARY:Multimediale Kunsttherapie  (26S61020) 
LOCATION:Feldkirch, Mittelschule Levis, Klasse, Mutterstraße 6, Mutterstraße 6, 6800 Feldkirch
END:VEVENT
BEGIN:VEVENT
DTSTAMP:20260419T150925
DTSTART;TZID=Europe/Berlin:20260529T183000
DTEND;TZID=Europe/Berlin:20260529T200000
UID:26S61020-20260529T183000@VHSGÖTZIS
SUMMARY:Multimediale Kunsttherapie  (26S61020) 
LOCATION:Feldkirch, Mittelschule Levis, Klasse, Mutterstraße 6, Mutterstraße 6, 6800 Feldkirch
END:VEVENT
END:VCALENDAR