BEGIN:VCALENDAR
VERSION:2.0
PRODID:https://www.kufer.de/kuferweb / DE
METHOD:PUBLISH
CALSCALE:GREGORIAN
X-WR-TIMEZONE:Europe/Berlin
BEGIN:VTIMEZONE
TZID:Europe/Berlin
X-LIC-LOCATION:Europe/Berlin
BEGIN:DAYLIGHT
TZOFFSETFROM:+0100
TZOFFSETTO:+0200
TZNAME:CEST
DTSTART:19700329T020000
RRULE:FREQ=YEARLY;INTERVAL=1;BYDAY=-1SU;BYMONTH=3
END:DAYLIGHT
BEGIN:STANDARD
TZOFFSETFROM:+0200
TZOFFSETTO:+0100
TZNAME:CET
DTSTART:19701025T030000
RRULE:FREQ=YEARLY;INTERVAL=1;BYDAY=-1SU;BYMONTH=10
END:STANDARD
END:VTIMEZONE
BEGIN:VEVENT
DTSTAMP:20260423T154847
DTSTART;TZID=Europe/Berlin:20260508T163000
DTEND;TZID=Europe/Berlin:20260508T183000
UID:26S61036-20260508T163000@VHSGÖTZIS
SUMMARY:Die Kunst des Zeichnens – von der Linie zur Form (26S61036) 
LOCATION:Götzis, Haus Bildung am Garnmarkt, Am Garnmarkt 12, Raum 104, Am Garnmarkt 12, 6840 Götzis
END:VEVENT
BEGIN:VEVENT
DTSTAMP:20260423T154847
DTSTART;TZID=Europe/Berlin:20260515T163000
DTEND;TZID=Europe/Berlin:20260515T183000
UID:26S61036-20260515T163000@VHSGÖTZIS
SUMMARY:Die Kunst des Zeichnens – von der Linie zur Form (26S61036) 
LOCATION:Götzis, Haus Bildung am Garnmarkt, Am Garnmarkt 12, Raum 104, Am Garnmarkt 12, 6840 Götzis
END:VEVENT
BEGIN:VEVENT
DTSTAMP:20260423T154847
DTSTART;TZID=Europe/Berlin:20260522T163000
DTEND;TZID=Europe/Berlin:20260522T183000
UID:26S61036-20260522T163000@VHSGÖTZIS
SUMMARY:Die Kunst des Zeichnens – von der Linie zur Form (26S61036) 
LOCATION:Götzis, Haus Bildung am Garnmarkt, Am Garnmarkt 12, Raum 104, Am Garnmarkt 12, 6840 Götzis
END:VEVENT
END:VCALENDAR