BEGIN:VCALENDAR
VERSION:2.0
PRODID:https://www.kufer.de/kuferweb / DE
METHOD:PUBLISH
CALSCALE:GREGORIAN
X-WR-TIMEZONE:Europe/Berlin
BEGIN:VTIMEZONE
TZID:Europe/Berlin
X-LIC-LOCATION:Europe/Berlin
BEGIN:DAYLIGHT
TZOFFSETFROM:+0100
TZOFFSETTO:+0200
TZNAME:CEST
DTSTART:19700329T020000
RRULE:FREQ=YEARLY;INTERVAL=1;BYDAY=-1SU;BYMONTH=3
END:DAYLIGHT
BEGIN:STANDARD
TZOFFSETFROM:+0200
TZOFFSETTO:+0100
TZNAME:CET
DTSTART:19701025T030000
RRULE:FREQ=YEARLY;INTERVAL=1;BYDAY=-1SU;BYMONTH=10
END:STANDARD
END:VTIMEZONE
BEGIN:VEVENT
DTSTAMP:20260421T153356
DTSTART;TZID=Europe/Berlin:20260316T191000
DTEND;TZID=Europe/Berlin:20260316T201000
UID:26S74015-20260316T191000@VHSGÖTZIS
SUMMARY:Trampolin - WORLD JUMPING®  (26S74015) 
LOCATION:Mäder Pfarrzentrum, Kirchweg 6, 6841 Mäder
END:VEVENT
BEGIN:VEVENT
DTSTAMP:20260421T153356
DTSTART;TZID=Europe/Berlin:20260323T191000
DTEND;TZID=Europe/Berlin:20260323T201000
UID:26S74015-20260323T191000@VHSGÖTZIS
SUMMARY:Trampolin - WORLD JUMPING®  (26S74015) 
LOCATION:Mäder Pfarrzentrum, Kirchweg 6, 6841 Mäder
END:VEVENT
BEGIN:VEVENT
DTSTAMP:20260421T153356
DTSTART;TZID=Europe/Berlin:20260413T191000
DTEND;TZID=Europe/Berlin:20260413T201000
UID:26S74015-20260413T191000@VHSGÖTZIS
SUMMARY:Trampolin - WORLD JUMPING®  (26S74015) 
LOCATION:Mäder Pfarrzentrum, Kirchweg 6, 6841 Mäder
END:VEVENT
BEGIN:VEVENT
DTSTAMP:20260421T153356
DTSTART;TZID=Europe/Berlin:20260420T191000
DTEND;TZID=Europe/Berlin:20260420T201000
UID:26S74015-20260420T191000@VHSGÖTZIS
SUMMARY:Trampolin - WORLD JUMPING®  (26S74015) 
LOCATION:Mäder Pfarrzentrum, Kirchweg 6, 6841 Mäder
END:VEVENT
BEGIN:VEVENT
DTSTAMP:20260421T153356
DTSTART;TZID=Europe/Berlin:20260427T191000
DTEND;TZID=Europe/Berlin:20260427T201000
UID:26S74015-20260427T191000@VHSGÖTZIS
SUMMARY:Trampolin - WORLD JUMPING®  (26S74015) 
LOCATION:Mäder Pfarrzentrum, Kirchweg 6, 6841 Mäder
END:VEVENT
BEGIN:VEVENT
DTSTAMP:20260421T153356
DTSTART;TZID=Europe/Berlin:20260504T191000
DTEND;TZID=Europe/Berlin:20260504T201000
UID:26S74015-20260504T191000@VHSGÖTZIS
SUMMARY:Trampolin - WORLD JUMPING®  (26S74015) 
LOCATION:Mäder Pfarrzentrum, Kirchweg 6, 6841 Mäder
END:VEVENT
BEGIN:VEVENT
DTSTAMP:20260421T153356
DTSTART;TZID=Europe/Berlin:20260511T191000
DTEND;TZID=Europe/Berlin:20260511T201000
UID:26S74015-20260511T191000@VHSGÖTZIS
SUMMARY:Trampolin - WORLD JUMPING®  (26S74015) 
LOCATION:Mäder Pfarrzentrum, Kirchweg 6, 6841 Mäder
END:VEVENT
BEGIN:VEVENT
DTSTAMP:20260421T153356
DTSTART;TZID=Europe/Berlin:20260518T191000
DTEND;TZID=Europe/Berlin:20260518T201000
UID:26S74015-20260518T191000@VHSGÖTZIS
SUMMARY:Trampolin - WORLD JUMPING®  (26S74015) 
LOCATION:Mäder Pfarrzentrum, Kirchweg 6, 6841 Mäder
END:VEVENT
END:VCALENDAR