BEGIN:VCALENDAR
VERSION:2.0
PRODID:https://www.kufer.de/kuferweb / DE
METHOD:PUBLISH
CALSCALE:GREGORIAN
X-WR-TIMEZONE:Europe/Berlin
BEGIN:VTIMEZONE
TZID:Europe/Berlin
X-LIC-LOCATION:Europe/Berlin
BEGIN:DAYLIGHT
TZOFFSETFROM:+0100
TZOFFSETTO:+0200
TZNAME:CEST
DTSTART:19700329T020000
RRULE:FREQ=YEARLY;INTERVAL=1;BYDAY=-1SU;BYMONTH=3
END:DAYLIGHT
BEGIN:STANDARD
TZOFFSETFROM:+0200
TZOFFSETTO:+0100
TZNAME:CET
DTSTART:19701025T030000
RRULE:FREQ=YEARLY;INTERVAL=1;BYDAY=-1SU;BYMONTH=10
END:STANDARD
END:VTIMEZONE
BEGIN:VEVENT
DTSTAMP:20260421T122917
DTSTART;TZID=Europe/Berlin:20260415T180000
DTEND;TZID=Europe/Berlin:20260415T190000
UID:26S75046-20260415T180000@VHSGÖTZIS
SUMMARY:Outdoor Training - Funktionelles Training u. Fitnesserlebnis im Freien (26S75046) 
LOCATION:Hohenems, Fitness Parcours, Rheinauen 2 (bei Kies-Kopf), , 6845 Hohenems
END:VEVENT
BEGIN:VEVENT
DTSTAMP:20260421T122917
DTSTART;TZID=Europe/Berlin:20260422T180000
DTEND;TZID=Europe/Berlin:20260422T190000
UID:26S75046-20260422T180000@VHSGÖTZIS
SUMMARY:Outdoor Training - Funktionelles Training u. Fitnesserlebnis im Freien (26S75046) 
LOCATION:Hohenems, Fitness Parcours, Rheinauen 2 (bei Kies-Kopf), , 6845 Hohenems
END:VEVENT
BEGIN:VEVENT
DTSTAMP:20260421T122917
DTSTART;TZID=Europe/Berlin:20260506T180000
DTEND;TZID=Europe/Berlin:20260506T190000
UID:26S75046-20260506T180000@VHSGÖTZIS
SUMMARY:Outdoor Training - Funktionelles Training u. Fitnesserlebnis im Freien (26S75046) 
LOCATION:Hohenems, Fitness Parcours, Rheinauen 2 (bei Kies-Kopf), , 6845 Hohenems
END:VEVENT
BEGIN:VEVENT
DTSTAMP:20260421T122917
DTSTART;TZID=Europe/Berlin:20260513T180000
DTEND;TZID=Europe/Berlin:20260513T190000
UID:26S75046-20260513T180000@VHSGÖTZIS
SUMMARY:Outdoor Training - Funktionelles Training u. Fitnesserlebnis im Freien (26S75046) 
LOCATION:Hohenems, Fitness Parcours, Rheinauen 2 (bei Kies-Kopf), , 6845 Hohenems
END:VEVENT
BEGIN:VEVENT
DTSTAMP:20260421T122917
DTSTART;TZID=Europe/Berlin:20260520T180000
DTEND;TZID=Europe/Berlin:20260520T190000
UID:26S75046-20260520T180000@VHSGÖTZIS
SUMMARY:Outdoor Training - Funktionelles Training u. Fitnesserlebnis im Freien (26S75046) 
LOCATION:Hohenems, Fitness Parcours, Rheinauen 2 (bei Kies-Kopf), , 6845 Hohenems
END:VEVENT
BEGIN:VEVENT
DTSTAMP:20260421T122917
DTSTART;TZID=Europe/Berlin:20260527T180000
DTEND;TZID=Europe/Berlin:20260527T190000
UID:26S75046-20260527T180000@VHSGÖTZIS
SUMMARY:Outdoor Training - Funktionelles Training u. Fitnesserlebnis im Freien (26S75046) 
LOCATION:Hohenems, Fitness Parcours, Rheinauen 2 (bei Kies-Kopf), , 6845 Hohenems
END:VEVENT
BEGIN:VEVENT
DTSTAMP:20260421T122917
DTSTART;TZID=Europe/Berlin:20260610T180000
DTEND;TZID=Europe/Berlin:20260610T190000
UID:26S75046-20260610T180000@VHSGÖTZIS
SUMMARY:Outdoor Training - Funktionelles Training u. Fitnesserlebnis im Freien (26S75046) 
LOCATION:Hohenems, Fitness Parcours, Rheinauen 2 (bei Kies-Kopf), , 6845 Hohenems
END:VEVENT
BEGIN:VEVENT
DTSTAMP:20260421T122917
DTSTART;TZID=Europe/Berlin:20260617T180000
DTEND;TZID=Europe/Berlin:20260617T190000
UID:26S75046-20260617T180000@VHSGÖTZIS
SUMMARY:Outdoor Training - Funktionelles Training u. Fitnesserlebnis im Freien (26S75046) 
LOCATION:Hohenems, Fitness Parcours, Rheinauen 2 (bei Kies-Kopf), , 6845 Hohenems
END:VEVENT
BEGIN:VEVENT
DTSTAMP:20260421T122917
DTSTART;TZID=Europe/Berlin:20260624T180000
DTEND;TZID=Europe/Berlin:20260624T190000
UID:26S75046-20260624T180000@VHSGÖTZIS
SUMMARY:Outdoor Training - Funktionelles Training u. Fitnesserlebnis im Freien (26S75046) 
LOCATION:Hohenems, Fitness Parcours, Rheinauen 2 (bei Kies-Kopf), , 6845 Hohenems
END:VEVENT
BEGIN:VEVENT
DTSTAMP:20260421T122917
DTSTART;TZID=Europe/Berlin:20260701T180000
DTEND;TZID=Europe/Berlin:20260701T190000
UID:26S75046-20260701T180000@VHSGÖTZIS
SUMMARY:Outdoor Training - Funktionelles Training u. Fitnesserlebnis im Freien (26S75046) 
LOCATION:Hohenems, Fitness Parcours, Rheinauen 2 (bei Kies-Kopf), , 6845 Hohenems
END:VEVENT
END:VCALENDAR