BEGIN:VCALENDAR
VERSION:2.0
PRODID:https://www.kufer.de/kuferweb / DE
METHOD:PUBLISH
CALSCALE:GREGORIAN
X-WR-TIMEZONE:Europe/Berlin
BEGIN:VTIMEZONE
TZID:Europe/Berlin
X-LIC-LOCATION:Europe/Berlin
BEGIN:DAYLIGHT
TZOFFSETFROM:+0100
TZOFFSETTO:+0200
TZNAME:CEST
DTSTART:19700329T020000
RRULE:FREQ=YEARLY;INTERVAL=1;BYDAY=-1SU;BYMONTH=3
END:DAYLIGHT
BEGIN:STANDARD
TZOFFSETFROM:+0200
TZOFFSETTO:+0100
TZNAME:CET
DTSTART:19701025T030000
RRULE:FREQ=YEARLY;INTERVAL=1;BYDAY=-1SU;BYMONTH=10
END:STANDARD
END:VTIMEZONE
BEGIN:VEVENT
DTSTAMP:20260421T153355
DTSTART;TZID=Europe/Berlin:20260627T103000
DTEND;TZID=Europe/Berlin:20260627T114500
UID:26S76045-20260627T103000@VHSGÖTZIS
SUMMARY:Kraulschwimmen  (26S76045) 
LOCATION:Feldkirch, Gisingen, Waldbad, Stadionstraße 5, , 
END:VEVENT
BEGIN:VEVENT
DTSTAMP:20260421T153355
DTSTART;TZID=Europe/Berlin:20260704T103000
DTEND;TZID=Europe/Berlin:20260704T114500
UID:26S76045-20260704T103000@VHSGÖTZIS
SUMMARY:Kraulschwimmen  (26S76045) 
LOCATION:Feldkirch, Gisingen, Waldbad, Stadionstraße 5, , 
END:VEVENT
BEGIN:VEVENT
DTSTAMP:20260421T153355
DTSTART;TZID=Europe/Berlin:20260711T103000
DTEND;TZID=Europe/Berlin:20260711T114500
UID:26S76045-20260711T103000@VHSGÖTZIS
SUMMARY:Kraulschwimmen  (26S76045) 
LOCATION:Feldkirch, Gisingen, Waldbad, Stadionstraße 5, , 
END:VEVENT
BEGIN:VEVENT
DTSTAMP:20260421T153355
DTSTART;TZID=Europe/Berlin:20260718T103000
DTEND;TZID=Europe/Berlin:20260718T114500
UID:26S76045-20260718T103000@VHSGÖTZIS
SUMMARY:Kraulschwimmen  (26S76045) 
LOCATION:Feldkirch, Gisingen, Waldbad, Stadionstraße 5, , 
END:VEVENT
BEGIN:VEVENT
DTSTAMP:20260421T153355
DTSTART;TZID=Europe/Berlin:20260725T103000
DTEND;TZID=Europe/Berlin:20260725T114500
UID:26S76045-20260725T103000@VHSGÖTZIS
SUMMARY:Kraulschwimmen  (26S76045) 
LOCATION:Feldkirch, Gisingen, Waldbad, Stadionstraße 5, , 
END:VEVENT
BEGIN:VEVENT
DTSTAMP:20260421T153355
DTSTART;TZID=Europe/Berlin:20260801T103000
DTEND;TZID=Europe/Berlin:20260801T114500
UID:26S76045-20260801T103000@VHSGÖTZIS
SUMMARY:Kraulschwimmen  (26S76045) 
LOCATION:Feldkirch, Gisingen, Waldbad, Stadionstraße 5, , 
END:VEVENT
END:VCALENDAR