BEGIN:VCALENDAR
VERSION:2.0
PRODID:https://www.kufer.de/kuferweb / DE
METHOD:PUBLISH
CALSCALE:GREGORIAN
X-WR-TIMEZONE:Europe/Berlin
BEGIN:VTIMEZONE
TZID:Europe/Berlin
X-LIC-LOCATION:Europe/Berlin
BEGIN:DAYLIGHT
TZOFFSETFROM:+0100
TZOFFSETTO:+0200
TZNAME:CEST
DTSTART:19700329T020000
RRULE:FREQ=YEARLY;INTERVAL=1;BYDAY=-1SU;BYMONTH=3
END:DAYLIGHT
BEGIN:STANDARD
TZOFFSETFROM:+0200
TZOFFSETTO:+0100
TZNAME:CET
DTSTART:19701025T030000
RRULE:FREQ=YEARLY;INTERVAL=1;BYDAY=-1SU;BYMONTH=10
END:STANDARD
END:VTIMEZONE
BEGIN:VEVENT
DTSTAMP:20260421T110513
DTSTART;TZID=Europe/Berlin:20261002T173000
DTEND;TZID=Europe/Berlin:20261002T213000
UID:26W50210-20261002T173000@VHSGÖTZIS
SUMMARY:Deutsch A2 und Werte, Integrationskurs (Fr Abend, Sa Vormittag) (26W50210) 
LOCATION:Götzis, Haus Bildung am Garnmarkt, Am Garnmarkt 12, Raum 103, Am Garnmarkt 12, 6840 Götzis
END:VEVENT
BEGIN:VEVENT
DTSTAMP:20260421T110513
DTSTART;TZID=Europe/Berlin:20261003T090000
DTEND;TZID=Europe/Berlin:20261003T123000
UID:26W50210-20261003T090000@VHSGÖTZIS
SUMMARY:Deutsch A2 und Werte, Integrationskurs (Fr Abend, Sa Vormittag) (26W50210) 
LOCATION:Götzis, Haus Bildung am Garnmarkt, Am Garnmarkt 12, Raum 103, Am Garnmarkt 12, 6840 Götzis
END:VEVENT
BEGIN:VEVENT
DTSTAMP:20260421T110513
DTSTART;TZID=Europe/Berlin:20261009T173000
DTEND;TZID=Europe/Berlin:20261009T213000
UID:26W50210-20261009T173000@VHSGÖTZIS
SUMMARY:Deutsch A2 und Werte, Integrationskurs (Fr Abend, Sa Vormittag) (26W50210) 
LOCATION:Götzis, Haus Bildung am Garnmarkt, Am Garnmarkt 12, Raum 103, Am Garnmarkt 12, 6840 Götzis
END:VEVENT
BEGIN:VEVENT
DTSTAMP:20260421T110513
DTSTART;TZID=Europe/Berlin:20261010T090000
DTEND;TZID=Europe/Berlin:20261010T123000
UID:26W50210-20261010T090000@VHSGÖTZIS
SUMMARY:Deutsch A2 und Werte, Integrationskurs (Fr Abend, Sa Vormittag) (26W50210) 
LOCATION:Götzis, Haus Bildung am Garnmarkt, Am Garnmarkt 12, Raum 103, Am Garnmarkt 12, 6840 Götzis
END:VEVENT
BEGIN:VEVENT
DTSTAMP:20260421T110513
DTSTART;TZID=Europe/Berlin:20261016T173000
DTEND;TZID=Europe/Berlin:20261016T213000
UID:26W50210-20261016T173000@VHSGÖTZIS
SUMMARY:Deutsch A2 und Werte, Integrationskurs (Fr Abend, Sa Vormittag) (26W50210) 
LOCATION:Götzis, Haus Bildung am Garnmarkt, Am Garnmarkt 12, Raum 103, Am Garnmarkt 12, 6840 Götzis
END:VEVENT
BEGIN:VEVENT
DTSTAMP:20260421T110513
DTSTART;TZID=Europe/Berlin:20261017T090000
DTEND;TZID=Europe/Berlin:20261017T123000
UID:26W50210-20261017T090000@VHSGÖTZIS
SUMMARY:Deutsch A2 und Werte, Integrationskurs (Fr Abend, Sa Vormittag) (26W50210) 
LOCATION:Götzis, Haus Bildung am Garnmarkt, Am Garnmarkt 12, Raum 103, Am Garnmarkt 12, 6840 Götzis
END:VEVENT
BEGIN:VEVENT
DTSTAMP:20260421T110513
DTSTART;TZID=Europe/Berlin:20261023T173000
DTEND;TZID=Europe/Berlin:20261023T213000
UID:26W50210-20261023T173000@VHSGÖTZIS
SUMMARY:Deutsch A2 und Werte, Integrationskurs (Fr Abend, Sa Vormittag) (26W50210) 
LOCATION:Götzis, Haus Bildung am Garnmarkt, Am Garnmarkt 12, Raum 103, Am Garnmarkt 12, 6840 Götzis
END:VEVENT
BEGIN:VEVENT
DTSTAMP:20260421T110513
DTSTART;TZID=Europe/Berlin:20261024T090000
DTEND;TZID=Europe/Berlin:20261024T105000
UID:26W50210-20261024T090000@VHSGÖTZIS
SUMMARY:Deutsch A2 und Werte, Integrationskurs (Fr Abend, Sa Vormittag) (26W50210) 
LOCATION:Götzis, Haus Bildung am Garnmarkt, Am Garnmarkt 12, Raum 103, Am Garnmarkt 12, 6840 Götzis
END:VEVENT
BEGIN:VEVENT
DTSTAMP:20260421T110513
DTSTART;TZID=Europe/Berlin:20261106T173000
DTEND;TZID=Europe/Berlin:20261106T213000
UID:26W50210-20261106T173000@VHSGÖTZIS
SUMMARY:Deutsch A2 und Werte, Integrationskurs (Fr Abend, Sa Vormittag) (26W50210) 
LOCATION:Götzis, Haus Bildung am Garnmarkt, Am Garnmarkt 12, Raum 103, Am Garnmarkt 12, 6840 Götzis
END:VEVENT
BEGIN:VEVENT
DTSTAMP:20260421T110513
DTSTART;TZID=Europe/Berlin:20261107T090000
DTEND;TZID=Europe/Berlin:20261107T123000
UID:26W50210-20261107T090000@VHSGÖTZIS
SUMMARY:Deutsch A2 und Werte, Integrationskurs (Fr Abend, Sa Vormittag) (26W50210) 
LOCATION:Götzis, Haus Bildung am Garnmarkt, Am Garnmarkt 12, Raum 103, Am Garnmarkt 12, 6840 Götzis
END:VEVENT
BEGIN:VEVENT
DTSTAMP:20260421T110513
DTSTART;TZID=Europe/Berlin:20261113T173000
DTEND;TZID=Europe/Berlin:20261113T213000
UID:26W50210-20261113T173000@VHSGÖTZIS
SUMMARY:Deutsch A2 und Werte, Integrationskurs (Fr Abend, Sa Vormittag) (26W50210) 
LOCATION:Götzis, Haus Bildung am Garnmarkt, Am Garnmarkt 12, Raum 103, Am Garnmarkt 12, 6840 Götzis
END:VEVENT
BEGIN:VEVENT
DTSTAMP:20260421T110513
DTSTART;TZID=Europe/Berlin:20261114T090000
DTEND;TZID=Europe/Berlin:20261114T123000
UID:26W50210-20261114T090000@VHSGÖTZIS
SUMMARY:Deutsch A2 und Werte, Integrationskurs (Fr Abend, Sa Vormittag) (26W50210) 
LOCATION:Götzis, Haus Bildung am Garnmarkt, Am Garnmarkt 12, Raum 103, Am Garnmarkt 12, 6840 Götzis
END:VEVENT
BEGIN:VEVENT
DTSTAMP:20260421T110513
DTSTART;TZID=Europe/Berlin:20261120T173000
DTEND;TZID=Europe/Berlin:20261120T213000
UID:26W50210-20261120T173000@VHSGÖTZIS
SUMMARY:Deutsch A2 und Werte, Integrationskurs (Fr Abend, Sa Vormittag) (26W50210) 
LOCATION:Götzis, Haus Bildung am Garnmarkt, Am Garnmarkt 12, Raum 103, Am Garnmarkt 12, 6840 Götzis
END:VEVENT
BEGIN:VEVENT
DTSTAMP:20260421T110513
DTSTART;TZID=Europe/Berlin:20261121T090000
DTEND;TZID=Europe/Berlin:20261121T123000
UID:26W50210-20261121T090000@VHSGÖTZIS
SUMMARY:Deutsch A2 und Werte, Integrationskurs (Fr Abend, Sa Vormittag) (26W50210) 
LOCATION:Götzis, Haus Bildung am Garnmarkt, Am Garnmarkt 12, Raum 103, Am Garnmarkt 12, 6840 Götzis
END:VEVENT
BEGIN:VEVENT
DTSTAMP:20260421T110513
DTSTART;TZID=Europe/Berlin:20261127T173000
DTEND;TZID=Europe/Berlin:20261127T213000
UID:26W50210-20261127T173000@VHSGÖTZIS
SUMMARY:Deutsch A2 und Werte, Integrationskurs (Fr Abend, Sa Vormittag) (26W50210) 
LOCATION:Götzis, Haus Bildung am Garnmarkt, Am Garnmarkt 12, Raum 103, Am Garnmarkt 12, 6840 Götzis
END:VEVENT
BEGIN:VEVENT
DTSTAMP:20260421T110513
DTSTART;TZID=Europe/Berlin:20261128T090000
DTEND;TZID=Europe/Berlin:20261128T123000
UID:26W50210-20261128T090000@VHSGÖTZIS
SUMMARY:Deutsch A2 und Werte, Integrationskurs (Fr Abend, Sa Vormittag) (26W50210) 
LOCATION:Götzis, Haus Bildung am Garnmarkt, Am Garnmarkt 12, Raum 103, Am Garnmarkt 12, 6840 Götzis
END:VEVENT
BEGIN:VEVENT
DTSTAMP:20260421T110513
DTSTART;TZID=Europe/Berlin:20261204T173000
DTEND;TZID=Europe/Berlin:20261204T213000
UID:26W50210-20261204T173000@VHSGÖTZIS
SUMMARY:Deutsch A2 und Werte, Integrationskurs (Fr Abend, Sa Vormittag) (26W50210) 
LOCATION:Götzis, Haus Bildung am Garnmarkt, Am Garnmarkt 12, Raum 103, Am Garnmarkt 12, 6840 Götzis
END:VEVENT
BEGIN:VEVENT
DTSTAMP:20260421T110513
DTSTART;TZID=Europe/Berlin:20261205T090000
DTEND;TZID=Europe/Berlin:20261205T123000
UID:26W50210-20261205T090000@VHSGÖTZIS
SUMMARY:Deutsch A2 und Werte, Integrationskurs (Fr Abend, Sa Vormittag) (26W50210) 
LOCATION:Götzis, Haus Bildung am Garnmarkt, Am Garnmarkt 12, Raum 103, Am Garnmarkt 12, 6840 Götzis
END:VEVENT
BEGIN:VEVENT
DTSTAMP:20260421T110513
DTSTART;TZID=Europe/Berlin:20261211T173000
DTEND;TZID=Europe/Berlin:20261211T213000
UID:26W50210-20261211T173000@VHSGÖTZIS
SUMMARY:Deutsch A2 und Werte, Integrationskurs (Fr Abend, Sa Vormittag) (26W50210) 
LOCATION:Götzis, Haus Bildung am Garnmarkt, Am Garnmarkt 12, Raum 103, Am Garnmarkt 12, 6840 Götzis
END:VEVENT
BEGIN:VEVENT
DTSTAMP:20260421T110513
DTSTART;TZID=Europe/Berlin:20261212T090000
DTEND;TZID=Europe/Berlin:20261212T123000
UID:26W50210-20261212T090000@VHSGÖTZIS
SUMMARY:Deutsch A2 und Werte, Integrationskurs (Fr Abend, Sa Vormittag) (26W50210) 
LOCATION:Götzis, Haus Bildung am Garnmarkt, Am Garnmarkt 12, Raum 103, Am Garnmarkt 12, 6840 Götzis
END:VEVENT
BEGIN:VEVENT
DTSTAMP:20260421T110513
DTSTART;TZID=Europe/Berlin:20261218T173000
DTEND;TZID=Europe/Berlin:20261218T213000
UID:26W50210-20261218T173000@VHSGÖTZIS
SUMMARY:Deutsch A2 und Werte, Integrationskurs (Fr Abend, Sa Vormittag) (26W50210) 
LOCATION:Götzis, Haus Bildung am Garnmarkt, Am Garnmarkt 12, Raum 103, Am Garnmarkt 12, 6840 Götzis
END:VEVENT
BEGIN:VEVENT
DTSTAMP:20260421T110513
DTSTART;TZID=Europe/Berlin:20261219T090000
DTEND;TZID=Europe/Berlin:20261219T123000
UID:26W50210-20261219T090000@VHSGÖTZIS
SUMMARY:Deutsch A2 und Werte, Integrationskurs (Fr Abend, Sa Vormittag) (26W50210) 
LOCATION:Götzis, Haus Bildung am Garnmarkt, Am Garnmarkt 12, Raum 103, Am Garnmarkt 12, 6840 Götzis
END:VEVENT
BEGIN:VEVENT
DTSTAMP:20260421T110513
DTSTART;TZID=Europe/Berlin:20270108T173000
DTEND;TZID=Europe/Berlin:20270108T213000
UID:26W50210-20270108T173000@VHSGÖTZIS
SUMMARY:Deutsch A2 und Werte, Integrationskurs (Fr Abend, Sa Vormittag) (26W50210) 
LOCATION:Götzis, Haus Bildung am Garnmarkt, Am Garnmarkt 12, Raum 103, Am Garnmarkt 12, 6840 Götzis
END:VEVENT
BEGIN:VEVENT
DTSTAMP:20260421T110513
DTSTART;TZID=Europe/Berlin:20270109T090000
DTEND;TZID=Europe/Berlin:20270109T123000
UID:26W50210-20270109T090000@VHSGÖTZIS
SUMMARY:Deutsch A2 und Werte, Integrationskurs (Fr Abend, Sa Vormittag) (26W50210) 
LOCATION:Götzis, Haus Bildung am Garnmarkt, Am Garnmarkt 12, Raum 103, Am Garnmarkt 12, 6840 Götzis
END:VEVENT
BEGIN:VEVENT
DTSTAMP:20260421T110513
DTSTART;TZID=Europe/Berlin:20270115T173000
DTEND;TZID=Europe/Berlin:20270115T213000
UID:26W50210-20270115T173000@VHSGÖTZIS
SUMMARY:Deutsch A2 und Werte, Integrationskurs (Fr Abend, Sa Vormittag) (26W50210) 
LOCATION:Götzis, Haus Bildung am Garnmarkt, Am Garnmarkt 12, Raum 103, Am Garnmarkt 12, 6840 Götzis
END:VEVENT
BEGIN:VEVENT
DTSTAMP:20260421T110513
DTSTART;TZID=Europe/Berlin:20270116T090000
DTEND;TZID=Europe/Berlin:20270116T123000
UID:26W50210-20270116T090000@VHSGÖTZIS
SUMMARY:Deutsch A2 und Werte, Integrationskurs (Fr Abend, Sa Vormittag) (26W50210) 
LOCATION:Götzis, Haus Bildung am Garnmarkt, Am Garnmarkt 12, Raum 103, Am Garnmarkt 12, 6840 Götzis
END:VEVENT
BEGIN:VEVENT
DTSTAMP:20260421T110513
DTSTART;TZID=Europe/Berlin:20270122T173000
DTEND;TZID=Europe/Berlin:20270122T213000
UID:26W50210-20270122T173000@VHSGÖTZIS
SUMMARY:Deutsch A2 und Werte, Integrationskurs (Fr Abend, Sa Vormittag) (26W50210) 
LOCATION:Götzis, Haus Bildung am Garnmarkt, Am Garnmarkt 12, Raum 103, Am Garnmarkt 12, 6840 Götzis
END:VEVENT
BEGIN:VEVENT
DTSTAMP:20260421T110513
DTSTART;TZID=Europe/Berlin:20270123T090000
DTEND;TZID=Europe/Berlin:20270123T123000
UID:26W50210-20270123T090000@VHSGÖTZIS
SUMMARY:Deutsch A2 und Werte, Integrationskurs (Fr Abend, Sa Vormittag) (26W50210) 
LOCATION:Götzis, Haus Bildung am Garnmarkt, Am Garnmarkt 12, Raum 103, Am Garnmarkt 12, 6840 Götzis
END:VEVENT
BEGIN:VEVENT
DTSTAMP:20260421T110513
DTSTART;TZID=Europe/Berlin:20270129T173000
DTEND;TZID=Europe/Berlin:20270129T213000
UID:26W50210-20270129T173000@VHSGÖTZIS
SUMMARY:Deutsch A2 und Werte, Integrationskurs (Fr Abend, Sa Vormittag) (26W50210) 
LOCATION:Götzis, Haus Bildung am Garnmarkt, Am Garnmarkt 12, Raum 103, Am Garnmarkt 12, 6840 Götzis
END:VEVENT
BEGIN:VEVENT
DTSTAMP:20260421T110513
DTSTART;TZID=Europe/Berlin:20270130T090000
DTEND;TZID=Europe/Berlin:20270130T123000
UID:26W50210-20270130T090000@VHSGÖTZIS
SUMMARY:Deutsch A2 und Werte, Integrationskurs (Fr Abend, Sa Vormittag) (26W50210) 
LOCATION:Götzis, Haus Bildung am Garnmarkt, Am Garnmarkt 12, Raum 103, Am Garnmarkt 12, 6840 Götzis
END:VEVENT
BEGIN:VEVENT
DTSTAMP:20260421T110513
DTSTART;TZID=Europe/Berlin:20270205T173000
DTEND;TZID=Europe/Berlin:20270205T213000
UID:26W50210-20270205T173000@VHSGÖTZIS
SUMMARY:Deutsch A2 und Werte, Integrationskurs (Fr Abend, Sa Vormittag) (26W50210) 
LOCATION:Götzis, Haus Bildung am Garnmarkt, Am Garnmarkt 12, Raum 103, Am Garnmarkt 12, 6840 Götzis
END:VEVENT
BEGIN:VEVENT
DTSTAMP:20260421T110513
DTSTART;TZID=Europe/Berlin:20270206T090000
DTEND;TZID=Europe/Berlin:20270206T123000
UID:26W50210-20270206T090000@VHSGÖTZIS
SUMMARY:Deutsch A2 und Werte, Integrationskurs (Fr Abend, Sa Vormittag) (26W50210) 
LOCATION:Götzis, Haus Bildung am Garnmarkt, Am Garnmarkt 12, Raum 103, Am Garnmarkt 12, 6840 Götzis
END:VEVENT
BEGIN:VEVENT
DTSTAMP:20260421T110513
DTSTART;TZID=Europe/Berlin:20270212T173000
DTEND;TZID=Europe/Berlin:20270212T213000
UID:26W50210-20270212T173000@VHSGÖTZIS
SUMMARY:Deutsch A2 und Werte, Integrationskurs (Fr Abend, Sa Vormittag) (26W50210) 
LOCATION:Götzis, Haus Bildung am Garnmarkt, Am Garnmarkt 12, Raum 103, Am Garnmarkt 12, 6840 Götzis
END:VEVENT
BEGIN:VEVENT
DTSTAMP:20260421T110513
DTSTART;TZID=Europe/Berlin:20270226T173000
DTEND;TZID=Europe/Berlin:20270226T213000
UID:26W50210-20270226T173000@VHSGÖTZIS
SUMMARY:Deutsch A2 und Werte, Integrationskurs (Fr Abend, Sa Vormittag) (26W50210) 
LOCATION:Götzis, Haus Bildung am Garnmarkt, Am Garnmarkt 12, Raum 103, Am Garnmarkt 12, 6840 Götzis
END:VEVENT
BEGIN:VEVENT
DTSTAMP:20260421T110513
DTSTART;TZID=Europe/Berlin:20270227T090000
DTEND;TZID=Europe/Berlin:20270227T123000
UID:26W50210-20270227T090000@VHSGÖTZIS
SUMMARY:Deutsch A2 und Werte, Integrationskurs (Fr Abend, Sa Vormittag) (26W50210) 
LOCATION:Götzis, Haus Bildung am Garnmarkt, Am Garnmarkt 12, Raum 103, Am Garnmarkt 12, 6840 Götzis
END:VEVENT
BEGIN:VEVENT
DTSTAMP:20260421T110513
DTSTART;TZID=Europe/Berlin:20270305T173000
DTEND;TZID=Europe/Berlin:20270305T213000
UID:26W50210-20270305T173000@VHSGÖTZIS
SUMMARY:Deutsch A2 und Werte, Integrationskurs (Fr Abend, Sa Vormittag) (26W50210) 
LOCATION:Götzis, Haus Bildung am Garnmarkt, Am Garnmarkt 12, Raum 103, Am Garnmarkt 12, 6840 Götzis
END:VEVENT
BEGIN:VEVENT
DTSTAMP:20260421T110513
DTSTART;TZID=Europe/Berlin:20270306T090000
DTEND;TZID=Europe/Berlin:20270306T123000
UID:26W50210-20270306T090000@VHSGÖTZIS
SUMMARY:Deutsch A2 und Werte, Integrationskurs (Fr Abend, Sa Vormittag) (26W50210) 
LOCATION:Götzis, Haus Bildung am Garnmarkt, Am Garnmarkt 12, Raum 103, Am Garnmarkt 12, 6840 Götzis
END:VEVENT
END:VCALENDAR